Workbook

Sheet NỘI DUNG
A1: TRƯỜNG CAO ĐẢNG LÝ TỰ TRỌNG | C1: CỘNG HÒA XÃ HỘI CHỦ NGHĨA VIỆT NAM
A2: THÀNH PHỐ HỒ CHÍ MINH | C2: Độc lập- Tự do- Hạnh phúc
A3: PHÒNG KẾ HOẠCH - TÀI CHÍNH
A5: BÁO CÁO CHI PHÍ TỐI THIỂU CHO MỘT NGƯỜI HỌC
A6: (CHƯƠNG TRÌNH LIÊN KẾT ĐÀO TẠO VỚI VINFAST)
A7: 1.THU HỌC PHÍ VÀ CÁC KHOẢN THU KHÁC (01 SINH VIÊN):
A8: STT | B8: MỤC | C8: SỐ TIỀN/ TÍN CHỈ | D8: TỔNG SỐ TÍN CHỈ | E8: THÀNH TIỀN/ SINH VIÊN
A9: 1 | B9: HỌC PHÍ | C9: 283000 | D9: 96 | E9: =C9*D9 -> 27168000
A10: 2 | B10: PHỤ THU (2,5 năm; không gồm BHYT, BHTN) | C10: =100000+(50000*2+40000*3)*2.5 -> 650000 | E10: 650000
B11: TỔNG: | E11: =SUM(E9:E10) -> 27818000
A13: * | B13: Vậy với 01 lớp học 30 sinh viên, tổng thu học phí và phụ thu là:
B14: 27.818.000 đồng/ Sinh viên x 30 Sinh viên = 834.540.000 đồng
A15: 2.CHI PHÍ THỰC HIỆN CHƯƠNG TRÌNH ĐÀO TẠO LIÊN KẾT VỚI VINFAST
A16: (Căn cứ: - Chương trình khung của ngành Công nghệ Kỹ thuật Ô tô và Cơ điện tử. - Áp dụng cho hệ cao đẳng 2,5 năm; - Áp dụng cho lớp học 30 người)
A18: STT | B18: MỤC | C18: SỐ TIỀN/ 30 SINH VIÊN | D18: SỐ TIỀN / SINH VIÊN | E18: GHI CHÚ
C19: (1) | D19: (2)=(1)/30
A20: 1 | B20: Tài liệu học tập, giảng dạy | C20: ='PL1 Tai lieu'!F26 -> 44749896 | D20: =ROUND(C20/30,0) -> 1491663 | E20: Phụ lục 01
A21: 2 | B21: Lương của giảng viên | C21: ='PL2.Lương GV'!H44 -> 337500000 | D21: =C21/30 -> 11250000 | E21: Phụ lục 02
A22: 3 | B22: Ngoại ngữ (chương trình học bổ sung trước khi tốt nghiệp) | C22: ='PL3. Ngoai ngữ'!F8 -> 75250000 | D22: =C22/30 -> 2508333.3 | E22: Phụ lục 03
A23: 4 | B23: Vật tư | C23: ='PL4.Vật tư'!F259 -> 136081311 | D23: =C23/30 -> 4536043.7 | E23: Phụ lục 04
A24: 5 | B24: Điện, nước | C24: ='PL5.Điện nước'!I63 -> 83626252 | D24: =C24/30 -> 2787541.7 | E24: Phụ lục 05
A25: 6 | B25: Sửa chữa tài sản | C25: ='PL6- Sua chua TS'!F18 -> 16900000 | D25: =C25/30 -> 563333.33 | E25: Phụ lục 06
A26: 7 | B26: Quản lý phí | C26: ='PL7.Quản lý'!F23 -> 100140000 | D26: =C26/30 -> 3338000 | E26: Phụ lục 07
A27: 8 | B27: Học bổng (trả học bổng theo quy định) | C27: ='PL8.Học bổng'!E8 -> 40250000 | D27: =C27/30 -> 1341666.7 | E27: Phụ lục 08
B28: TỔNG | C28: =SUM(C20:C27) -> 834497459 | D28: =SUM(D20:D27) -> 27816582
B30: Thành phố Hồ Chí Minh, ngày tháng năm 2020
A31: NGƯỜI LẬP BẢNG PHÒNG KẾ HOẠCH - TÀI CHÍNH | D31: HIỆU TRƯỞNG

Sheet PL1 Tai lieu
B1: Phụ lục 1:
A2: DỰ TOÁN CHI PHÍ TÀI LIỆU HỌC TẬP, GIẢNG DẠY
A4: TT | B4: Nội dung | C4: ĐVT | D4: Số lượng | E4: Đơn giá | F4: Thành tiền | G4: Ghi chú
A5: A | B5: Tài liệu học tập, giảng dạy
A6: I | B6: Tài liệu các môn học chung theo quy định của Việt Nam | F6: =SUM(F7:F12) -> 9052500
A7: 1 | B7: Pháp luật | C7: Quyển | D7: 30 | E7: 42500 | F7: =E7*D7 -> 1275000
A8: 2 | B8: Giáo dục thể chất | C8: Quyển | D8: 30 | E8: 34000 | F8: =E8*D8 -> 1020000
A9: 3 | B9: Giáo dục quốc phòng và an ninh | C9: Quyển | D9: 30 | E9: 42500 | F9: =E9*D9 -> 1275000
A10: 4 | B10: Tin học | C10: Quyển | D10: 30 | E10: 51000 | F10: =E10*D10 -> 1530000
A11: 5 | B11: Ngoại ngữ | C11: Quyển | D11: 30 | E11: 68000 | F11: =E11*D11 -> 2040000
A12: 6 | B12: Giáo dục chính trị | C12: Quyển | D12: 30 | E12: 63750 | F12: =E12*D12 -> 1912500
A13: II | B13: Tài liệu hướng dẫn: | F13: =SUM(F14:F20) -> 24427716
A14: 7 | B14: Tài liệu hướng dẫn về phương pháp - lý luận học tập/giảng dạy môn Kinh tế học | C14: Quyển | D14: 30 | E14: 63750 | F14: =D14*E14 -> 1912500
A15: 8 | B15: Tài liệu hướng dẫn về phương pháp - lý luận học tập/giảng dạy môn Xã hội học | C15: Quyển | D15: 30 | E15: 102000 | F15: =D15*E15 -> 3060000
A16: 9 | B16: Tài liệu hướng dẫn về phương pháp - lý luận học tập/giảng dạy các học phần lý thuyết chuyên ngành | C16: Quyển | D16: 30 | E16: 297500 | F16: =D16*E16 -> 8925000
A17: 10 | B17: Tài liệu hướng dẫn về phương pháp - lý luận học tập/giảng dạy các học phần thực hành chuyên môn | C17: Quyển | D17: 30 | E17: 348665 | F17: =D17*E17 -> 10459950
A18: 11 | B18: Công cụ hỗ trợ quản lý học tập/giảng dạy bắt buộc: Sổ báo cáo | C18: Quyển | D18: 1 | E18: 29766 | F18: =D18*E18 -> 29766
A19: 12 | B19: Công cụ hỗ trợ quản lý học tập/giảng dạy bắt buộc: Sổ đầu bài | C19: Quyển | D19: 1 | E19: 25500 | F19: =D19*E19 -> 25500
A20: 13 | B20: Tài liệu đánh giá bao gồm mẫu đề thi, đáp án, hướng dẫn đánh giá và chấm điểm | C20: Bộ | D20: 1 | E20: 15000 | F20: =D20*E20 -> 15000
A21: III | B21: Tài liệu khác | F21: =SUM(F22:F25) -> 11269680
A22: 14 | B22: Kinh tế học - Xã hội học tổng quát | C22: Quyển | D22: 30 | E22: 136000 | F22: =E22*D22 -> 4080000
A23: 15 | B23: Kinh tế học - Xã hội học tổng quát - Đáp án | C23: Quyển | D23: 30 | E23: 136000 | F23: =E23*D23 -> 4080000
A24: 20 | B24: Sổ giáo án (1 quyển 60 trang/1 môn x 30 học phần) | C24: Quyển | D24: 30 | E24: 49756 | F24: =E24*D24 -> 1492680
A25: 21 | B25: Sổ tay giáo viên (1 quyển 25 trang/1 môn x 30 học phần) | C25: Quyển | D25: 30 | E25: 53900 | F25: =E25*D25 -> 1617000
A26: TỔNG CỘNG | F26: =F21+F13+F6 -> 44749896
B27: =" Bằng chữ: "&[1]!VND(F26)&" đồng./." -> Bằng chữ: Bốn mươi bốn triệu, bảy trăm bốn mươi chín ngàn, tám trăm chín mươi sáu đồng./.

Sheet PL2.Lương GV
A1: TRƯỜNG CAO ĐẢNG LÝ TỰ TRỌNG | E1: CỘNG HÒA XÃ HỘI CHỦ NGHĨA VIỆT NAM
A2: THÀNH PHỐ HỒ CHÍ MINH | E2: Độc lập- Tự do- Hạnh phúc
A3: PHÒNG KẾ HOẠCH - TÀI CHÍNH
B5: Phụ lục 2:
A6: THANH TOÁN LƯƠNG CỦA GIẢNG VIÊN THAM GIA GIÀNG DẠY
A7: STT | B7: HỌC PHẦN | C7: SỐ TÍN CHỈ | D7: SỐ TIẾT LÝ THUYẾT | E7: SỐ TIẾT THỰC HÀNH | F7: TỔNG CỘNG | G7: THANH TOÁN TIỀN LƯƠNG/ TIẾT | H7: THÀNH TIỀN
C8: (1) | D8: (2) | E8: (3) | F8: (4) | G8: (5) | H8: (6)=(4)*(5)
A9: 1 | B9: Thực hành Hàn cơ bản | C9: 1 | D9: 0 | E9: 30 | F9: =D9+E9 -> 30 | G9: 150000 | H9: =F9*G9 -> 4500000
A10: 2 | B10: Thực hành Nguội cơ bản | C10: 1 | D10: 0 | E10: 30 | F10: =D10+E10 -> 30 | G10: 150000 | H10: =F10*G10 -> 4500000
A11: 3 | B11: Đồ án học phần 1 | C11: 1 | D11: 0 | E11: 45 | F11: =D11+E11 -> 45 | G11: 150000 | H11: =F11*G11 -> 6750000
A12: 4 | B12: Đồ án học phần 2 | C12: 1 | D12: 0 | E12: 45 | F12: =D12+E12 -> 45 | G12: 150000 | H12: =F12*G12 -> 6750000
A13: 5 | B13: Dung sai - Kỹ thuật đo | C13: 2 | D13: 30 | E13: 0 | F13: =D13+E13 -> 30 | G13: 150000 | H13: =F13*G13 -> 4500000
A14: 6 | B14: Kỹ thuật điện - điện tử | C14: 2 | D14: 30 | E14: 0 | F14: =D14+E14 -> 30 | G14: 150000 | H14: =F14*G14 -> 4500000
A15: 7 | B15: Thực hành Kỹ thuật lái xe | C15: 2 | D15: 0 | E15: 60 | F15: =D15+E15 -> 60 | G15: 150000 | H15: =F15*G15 -> 9000000
A16: 8 | B16: Cơ lý thuyết | C16: 2 | D16: 30 | E16: 0 | F16: =D16+E16 -> 30 | G16: 150000 | H16: =F16*G16 -> 4500000
A17: 9 | B17: Giáo dục thể chất | C17: 2 | D17: 0 | E17: 60 | F17: =D17+E17 -> 60 | G17: 150000 | H17: =F17*G17 -> 9000000
A18: 10 | B18: Pháp luật | C18: 2 | D18: 30 | E18: 0 | F18: =D18+E18 -> 30 | G18: 150000 | H18: =F18*G18 -> 4500000
A19: 11 | B19: Thực hành Đồng - Sơn Ô tô | C19: 2 | D19: 0 | E19: 60 | F19: =D19+E19 -> 60 | G19: 150000 | H19: =F19*G19 -> 9000000
A20: 12 | B20: Anh văn chuyên ngành CNKT ôtô | C20: 2 | D20: 30 | E20: 0 | F20: =D20+E20 -> 30 | G20: 150000 | H20: =F20*G20 -> 4500000
... A43: 35 | B43: Thực tập tốt nghiệp | C43: 6 | D43: 0 | E43: 270 | F43: =D43+E43 -> 270 | G43: 150000 | H43: =F43*G43 -> 40500000
B44: TỔNG | C44: =SUM(C9:C43) -> 96 | D44: =SUM(D9:D43) -> 840 | E44: =SUM(E9:E43) -> 1410 | F44: =SUM(F9:F43) -> 2250 | H44: =SUM(H9:H43) -> 337500000
B45: =" Bằng chữ: "&[1]!VND(H44)&" đồng./." -> Bằng chữ: Ba trăm ba mươi bảy triệu, năm trăm ngàn đồng./.

Sheet PL3. Ngoai ngữ
A1: Phụ lục 3:
A2: DỰ TOÁN KINH PHÍ TỔ CHỨC ĐÀO TẠO NGOẠI NGỮ CHUYÊN NGÀNH VÀ THI KIỂM TRA ĐÁNH GIÁ NGOẠI NGỮ ĐỂ ĐẠT TRÌNH ĐỘ B1 KHUNG NĂNG LỰC NGOẠI NGỮ CHÂU ÂU
A3: - Ngoại ngữ: Tiếng Anh; - Thời gian học: 420 giờ - Giáo viên nước ngoài: 01 - Giáo viên Việt Nam: - Trợ giảng:
A4: STT | B4: NỘI DUNG | C4: ĐƠN VỊ | D4: SỐ LƯỢNG | E4: ĐƠN GIÁ | F4: THÀNH TIỀN
A5: 1 | B5: Lương giáo viên nước ngoài | C5: Giờ | D5: 60 | E5: 500000 | F5: =E5*D5 -> 30000000
A6: 2 | B6: Tài liệu học tập cho sinh viên | C6: Bộ | D6: 10 | E6: 525000 | F6: =E6*D6 -> 5250000
A7: 3 | B7: Tổ chức thi lấy chứng chỉ B1 | C7: Người | D7: 10 | E7: 4000000 | F7: =E7*D7 -> 40000000
B8: Tổng cộng | F8: =SUM(F5:F7) -> 75250000
B10: =" Bằng chữ: "&[1]!VND(F8)&" đồng./." -> Bằng chữ: Bảy mươi lăm triệu, hai trăm năm mươi ngàn đồng./.

Sheet PL4.Vật tư
A1: Phụ lục 4
A2: DỰ TOÁN CHI CHÍ VẬT TƯ HỌC TẬP VÀ THI TỐT NGHIỆP NGHÀNH CÔNG NGHỆ Ô TÔ VÀ CƠ ĐIỆN TỬ
A4: Số TT | B4: Nguyên vật liệu | C4: Đơn vị | D4: Số lượng (cho 30 SV) | E4: Đơn giá (đồng) | F4: Thành tiền (đồng) | G4: Ghi chú | I4: Số TT | J4: Nguyên vật liệu | K4: Đơn vị | L4: Số lượng | M4: Ghi chú
B5: NHÓM VẬT TƯ VĂN PHÒNG PHẨM | L5: (cho 16 SV)
A6: 1 | B6: Giấy A4 Màu dùng để làm thẻ màu in | C6: Ream | D6: 2 | E6: 165000 | F6: =D6*E6 -> 330000 | I6: 1 | J6: Giấy A4 Màu dùng để làm thẻ màu in | K6: Ream | L6: 20 | N6: =D6-L6 -> -18
A7: 2 | B7: Giấy A4 in tài liệu phát tay | C7: Ream | D7: 1 | E7: 99000 | F7: =D7*E7 -> 99000 | I7: 2 | J7: Giấy A4 in tài liệu phát tay | K7: Ream | L7: 60 | N7: =D7-L7 -> -59
A8: 3 | B8: Mực in | C8: Hộp | D8: 1 | E8: 816750 | F8: =D8*E8 -> 816750 | I8: 3 | J8: Mực in | K8: Hộp | L8: 30 | N8: =D8-L8 -> -29
A9: 4 | B9: Giấy A0 | C9: Tờ | D9: 66 | E9: 27500 | F9: =D9*E9 -> 1815000 | I9: 4 | J9: Giấy A0 | K9: Tờ | L9: 500 | N9: =D9-L9 -> -434
A10: 5 | B10: Nam châm viên dính bảng | C10: Viên | D10: 10 | E10: 11000 | F10: =D10*E10 -> 110000 | I10: 5 | J10: Nam châm viên dính bảng | K10: Viên | L10: 100 | N10: =D10-L10 -> -90
A11: 6 | B11: Bút dạ | C11: Chiếc | D11: 31 | E11: 16500 | F11: =D11*E11 -> 511500 | I11: 6 | J11: Bút dạ | K11: Chiếc | L11: 220 | N11: =D11-L11 -> -189
A12: 7 | B12: Phấn viết bảng | C12: Hộp | D12: 7 | E12: 16500 | F12: =D12*E12 -> 115500 | I12: 7 | J12: Phấn viết bảng | K12: Hộp | L12: 21 | N12: =D12-L12 -> -14
A13: 8 | B13: Sổ viết | C13: Quyển | D13: 31 | E13: 22000 | F13: =D13*E13 -> 682000 | I13: 8 | J13: Sổ viết | K13: Quyển | L13: 512 | N13: =D13-L13 -> -481
A14: 9 | B14: Sách chuyên ngành | C14: Quyển | D14: 0 | E14: 385000 | F14: =D14*E14 -> 0
A15: 10 | B15: Giấy đề can A4 trắng | C15: Tờ | D15: 62 | E15: 550 | F15: =D15*E15 -> 34100 | I15: 9 | J15: Sách chuyên nghành | K15: Quyển | L15: 448 | N15: =D15-L15 -> -386
A16: 11 | B16: Giấy đề can A3 | C16: Tờ | D16: 62 | E16: 1100 | F16: =D16*E16 -> 68200 | J16: Giấy Couche bóng theo thông số kỹ thuật kích thước A4 dạng Decal định lượng 150 gsm | N16: =D16-L16 -> 62
A17: 12 | B17: Giấy in A1 | C17: Tờ | D17: 31 | E17: 7700 | F17: =D17*E17 -> 238700 | I17: 12 | J17: Giấy in A1 | K17: Tờ | L17: 50 | N17: =D17-L17 -> -19
A18: 13 | B18: Giấy in A3 | C18: Tờ | D18: 31 | E18: 550 | F18: =D18*E18 -> 17050 | I18: 14 | J18: Bút dạ kim (màu xanh, đen, đỏ) | K18: Chiếc | L18: 160 | N18: =D18-L18 -> -129
A19: 14 | B19: Bút dạ kim (màu xanh, đen, đỏ) | C19: Chiếc | D19: 31 | E19: 11000 | F19: =D19*E19 -> 341000 | J19: Bút dạ kim - màu xanh | L19: 40 | N19: =D19-L19 -> -9
B20: Bút dạ kim - màu xanh | D20: 10 | E20: 0 | J20: Bút dạ kim - màu đỏ | L20: 40 | N20: =D20-L20 -> -30
B21: Bút dạ kim - màu đỏ | D21: 10 | E21: 0 | J21: Bút dạ xanh | L21: 40 | N21: =D21-L21 -> -30
B22: Bút dạ xanh | D22: 5 | E22: 0 | J22: Bút viết bảng trắng | L22: 40 | N22: =D22-L22 -> -35
B23: Bút viết bảng trắng | D23: 6 | E23: 0 | I23: 15 | J23: Bút sơn | K23: Chiếc | L23: 120 | N23: =D23-L23 -> -114
A24: 15 | B24: Bút sơn | C24: Chiếc | D24: 2 | E24: 16500 | F24: =D24*E24 -> 33000 | I24: 16 | J24: Bút dạ không xóa | K24: Chiếc | L24: 120 | N24: =D24-L24 -> -118
A25: 16 | B25: Bút dạ không xóa | C25: Chiếc | D25: 31 | E25: 16500 | F25: =D25*E25 -> 511500 | J25: - Màu sắc: Màu xanh | N25: =D25-L25 -> 31
B26: - Màu sắc: Màu xanh | E26: 0 | J26: - Bút 2 đầu, kiểu dáng thon nhỏ | N26: =D26-L26 -> 0
B27: - Bút 2 đầu, kiểu dáng thon nhỏ | E27: 0 | I27: 17 | J27: Bút bi mực xanh | K27: Chiếc | L27: 120 | N27: =D27-L27 -> -120
A28: 17 | B28: Bút bi mực xanh | C28: Chiếc | D28: 31 | E28: 5500 | F28: =D28*E28 -> 170500 | J28: - Đóng gói: 30cây/ca | N28: =D28-L28 -> 31
B29: - Đóng gói: 30cây/ca | E29: 0 | J29: - Màu sắc: Màu xanh | N29: =D29-L29 -> 0
B30: - Màu sắc: Màu xanh | E30: 0 | I30: 18 | J30: Bút bi - mực đỏ | K30: Chiếc | L30: 120 | N30: =D30-L30 -> -120
A31: 18 | B31: Bút bi - mực đỏ | C31: Chiếc | D31: 31 | E31: 5500 | F31: =D31*E31 -> 170500 | J31: - Đóng gói: 30 cây/ca | N31: =D31-L31 -> 31
B32: - Đóng gói: 30 cây/ca | E32: 0 | J32: - Màu sắc: Màu đỏ | N32: =D32-L32 -> 0
B33: - Màu sắc: Màu đỏ | E33: 0 | I33: 19 | J33: Bút nhớ dòng | K33: Chiếc | L33: 120 | N33: =D33-L33 -> -120
A34: 19 | B34: Bút nhớ dòng | C34: Chiếc | D34: 31 | E34: 13200 | F34: =D34*E34 -> 409200 | J34: - Có 3 mầu để lựa chọn: vàng, xanh, đỏ | N34: =D34-L34 -> 31
B35: - Có 3 mầu để lựa chọn: vàng, xanh, đỏ | E35: 0 | J35: - Bút có 2 đầu giúp tăng thêm tính năng sử dụng | N35: =D35-L35 -> 0
B36: - Bút có 2 đầu giúp tăng thêm tính năng sử dụng | E36: 0 | I36: 20 | J36: Bút xoá | K36: Chiếc | L36: 120 | N36: =D36-L36 -> -120
A37: 20 | B37: Bút xoá | C37: Chiếc | D37: 31 | E37: 22000 | F37: =D37*E37 -> 682000 | J37: Bút chì | K37: Chiếc | L37: 120 | N37: =D37-L37 -> -89
B38: Bút chì | C38: Chiếc | D38: 31 | E38: 5500 | F38: =D38*E38 -> 170500 | J38: -Có tẩy | N38: =D38-L38 -> 31
B39: -Có tẩy | E39: 0 | J39: -Các loại: HB, 2B, 3B | N39: =D39-L39 -> 0
B40: -Các loại: HB, 2B, 3B | E40: 0 | I40: 21 | J40: Gọt bút chì | K40: Chiếc | L40: 10 | N40: =D40-L40 -> -10
A41: 21 | B41: Gọt bút chì | C41: Chiếc | D41: 31 | E41: 16500 | F41: =D41*E41 -> 511500 | I41: 22 | J41: Tẩy chì | K41: Chiếc | L41: 30 | N41: =D41-L41 -> 1
...

Sheet PL5.Điện nước
A1: Phụ lục 5
A2: DỰ TOÁN CHI PHÍ TIÊU HAO ĐIỆN, NƯỚC NGHỀ CÔNG NGHỆ Ô TÔ
A4: TT | B4: Tên thiết bị | C4: Đơn vị tính | D4: Số lượng thiết bị sử dụng | E4: Số giờ sử dụng | F4: Công suất TB (W) | G4: Tổng tiêu hao (KW) | H4: Đơn giá (đồng/kwh) | I4: Thành tiền (đồng) | J4: Ghi chú
A5: (1) | B5: (2) | C5: (3) | D5: (4) | E5: (5) | F5: (6) | G5: (7) | H5: (8) | I5: (9) | J5: (10)
A6: A | B6: Định mức tiêu hao điện
A7: I | B7: PHÒNG HỌC LÝ THUYẾT
A8: 1 | B8: Quạt trần điện cơ 91 | C8: Cái | D8: 4 | E8: 1100 | F8: 75 | G8: =D8*E8*F8/1000 -> 330 | H8: 1827 | I8: =ROUND(H8*G8,0) -> 602910
A9: 2 | B9: Máy vi tính | C9: Cái | D9: 1 | E9: 1100 | F9: 500 | G9: =D9*E9*F9/1000 -> 550 | H9: 1827 | I9: =ROUND(H9*G9,0) -> 1004850
A10: 3 | B10: Đèn tuýp | C10: Bộ | D10: 3 | E10: 1100 | F10: 80 | G10: =D10*E10*F10/1000 -> 264 | H10: 1827 | I10: =ROUND(H10*G10,0) -> 482328
A11: 4 | B11: Máy chiếu | C11: Cái | D11: 1 | E11: 1100 | F11: 300 | G11: =D11*E11*F11/1000 -> 330 | H11: 1827 | I11: =ROUND(H11*G11,0) -> 602910
A12: 5 | B12: Điều hòa | C12: Bộ | D12: 1 | E12: 1100 | F12: 5000 | G12: =D12*E12*F12/1000 -> 5500 | H12: 1827 | I12: =ROUND(H12*G12,0) -> 10048500
A13: 6 | B13: Loa | C13: Cái | D13: 4 | E13: 1100 | F13: 150 | G13: =D13*E13*F13/1000 -> 660 | H13: 1827 | I13: =ROUND(H13*G13,0) -> 1205820
A14: II | B14: PHÒNG HỌC MÁY TÍNH | H14: 1827
A15: 1 | B15: Quạt trần | C15: Cái | D15: 2 | E15: 100 | F15: 75 | G15: =D15*E15*F15/1000 -> 15 | H15: 1827 | I15: =H15*G15 -> 27405
A16: 2 | B16: Đèn tuýp | C16: Bộ | D16: 6 | E16: 100 | F16: 80 | G16: =D16*E16*F16/1000 -> 48 | H16: 1827 | I16: =H16*G16 -> 87696
A17: 3 | B17: Máy chiếu | C17: Cái | D17: 1 | E17: 100 | F17: 300 | G17: =D17*E17*F17/1000 -> 30 | H17: 1827 | I17: =H17*G17 -> 54810
A18: 4 | B18: Máy tính | C18: Cái | D18: 5 | E18: 100 | F18: 500 | G18: =D18*E18*F18/1000 -> 250 | H18: 1827 | I18: =H18*G18 -> 456750
A19: 5 | B19: Điều hòa | C19: Bộ | D19: 1 | E19: 100 | F19: 5000 | G19: =D19*E19*F19/1000 -> 500 | H19: 1827 | I19: =H19*G19 -> 913500
A20: III | B20: XƯỞNG THỰC HÀNH NGUỘI | H20: 1827
A21: 1 | B21: Quạt treo tường | C21: Cái | D21: 2 | E21: 1168 | F21: 60 | G21: =D21*E21*F21/1000 -> 140.16 | H21: 1827 | I21: =ROUND(H21*G21,0) -> 256072
A22: 2 | B22: Đèn tuýp | C22: Bộ | D22: 6 | E22: 1168 | F22: 80 | G22: =D22*E22*F22/1000 -> 560.64 | H22: 1827 | I22: =ROUND(H22*G22,0) -> 1024289
A23: 3 | B23: Máy chiếu | C23: Cái | D23: 1 | E23: 1168 | F23: 300 | G23: =D23*E23*F23/1000 -> 350.4 | H23: 1827 | I23: =ROUND(H23*G23,0) -> 640181
A24: 4 | B24: Máy mài 2 đá | C24: Cái | D24: 1 | E24: 400 | F24: 1500 | G24: =D24*E24*F24/1000 -> 600 | H24: 1827 | I24: =ROUND(H24*G24,0) -> 1096200
A25: 5 | B25: Máy Khoan bàn | C25: Cái | D25: 1 | E25: 400 | F25: 2000 | G25: =D25*E25*F25/1000 -> 800 | H25: 1827 | I25: =ROUND(H25*G25,0) -> 1461600
A26: 6 | B26: Máy khoan cầm tay | C26: Cái | D26: 1 | E26: 300 | F26: 1000 | G26: =D26*E26*F26/1000 -> 300 | H26: 1827 | I26: =ROUND(H26*G26,0) -> 548100
A27: 7 | B27: Máy mài cầm tay | C27: Cái | D27: 1 | E27: 400 | F27: 2000 | G27: =D27*E27*F27/1000 -> 800 | H27: 1827 | I27: =ROUND(H27*G27,0) -> 1461600
A28: 8 | B28: Máy hàn điện | C28: Cái | D28: 1 | E28: 300 | F28: 2000 | G28: =D28*E28*F28/1000 -> 600 | H28: 1827 | I28: =ROUND(H28*G28,0) -> 1096200
A29: IV | B29: XƯỞNG ĐIỆN - ĐIỆN TỬ Ô TÔ | H29: 1827
A30: 1 | B30: Dàn nâng Ô tô | C30: Cái | D30: 1 | E30: 400 | F30: 5000 | G30: =D30*E30*F30/1000 -> 2000 | H30: 1827 | I30: =ROUND(H30*G30,0) -> 3654000
A31: 2 | B31: Máy cân chỉnh đèn pha ô tô | C31: Cái | D31: 1 | E31: 400 | F31: 2000 | G31: =D31*E31*F31/1000 -> 800 | H31: 1827 | I31: =ROUND(H31*G31,0) -> 1461600
A32: 3 | B32: Máy nạp ác quy Ô tô | C32: Cái | D32: 1 | E32: 1000 | F32: 3000 | G32: =D32*E32*F32/1000 -> 3000 | H32: 1827 | I32: =ROUND(H32*G32,0) -> 5481000
A33: 4 | B33: Máy tính | C33: Cái | D33: 6 | E33: 1768 | F33: 500 | G33: =D33*E33*F33/1000 -> 5304 | H33: 1827 | I33: =ROUND(H33*G33,0) -> 9690408
A34: 5 | B34: Máy chiếu | C34: Cái | D34: 1 | E34: 1768 | F34: 300 | G34: =D34*E34*F34/1000 -> 530.4 | H34: 1827 | I34: =ROUND(H34*G34,0) -> 969041
A35: 6 | B35: Quạt treo tường | C35: Cái | D35: 2 | E35: 1768 | F35: 60 | G35: =D35*E35*F35/1000 -> 212.16 | H35: 1827 | I35: =ROUND(H35*G35,0) -> 387616
A36: 7 | B36: Đèn tuýp | C36: Bộ | D36: 6 | E36: 1768 | F36: 80 | G36: =D36*E36*F36/1000 -> 848.64 | H36: 1827 | I36: =ROUND(H36*G36,0) -> 1550465
A37: V | B37: XƯỞNG GẦM Ô TÔ | H37: 1827
A38: 1 | B38: Dàn nâng ô tô | C38: Cái | D38: 1 | E38: 500 | F38: 5000 | G38: =D38*E38*F38/1000 -> 2500 | H38: 1827 | I38: =ROUND(H38*G38,0) -> 4567500
A39: 2 | B39: Thiết bịtháo lắp lốp xe | C39: Bộ | D39: 1 | E39: 500 | F39: 3000 | G39: =D39*E39*F39/1000 -> 1500 | H39: 1827 | I39: =ROUND(H39*G39,0) -> 2740500
A40: 3 | B40: Thiết bị cân bằng lốp xe | C40: Bộ | D40: 1 | E40: 500 | F40: 3000 | G40: =D40*E40*F40/1000 -> 1500 | H40: 1827 | I40: =ROUND(H40*G40,0) -> 2740500
A41: 4 | B41: Thiết bị hút Air của hệthống phanh thủy lực | C41: Bộ | D41: 1 | E41: 500 | F41: 3000 | G41: =D41*E41*F41/1000 -> 1500 | H41: 1827 | I41: =ROUND(H41*G41,0) -> 2740500
...

Sheet PL6- Sua chua TS
B1: Phụ lục 7
A2: DỰ TOÁN CHI PHÍ SỬA CHỮA NHỎ TÀI SẢN, TRANG THIẾT BỊ ĐÀO TẠO NGHỀ CÔNG NGHỆ Ô TÔ
A4: TT | B4: Hạng mục sửa chữa, thay thế | C4: Đơn vị tính | D4: Số lượt sửa chữa, thay thế | E4: Đơn giá (đồng) | F4: Thành tiền (đồng) | G4: Ghi chú
A5: 1 | B5: Đèn tuýp | C5: Chiếc | D5: 20 | E5: 90000 | F5: =E5*D5 -> 1800000 | G5: Thay bóng, sửa chữa khi có hư hỏng | H5: 182
A6: 2 | B6: Quạt trần | C6: Cái | D6: 4 | E6: 200000 | F6: =E6*D6 -> 800000 | G6: Sửa chữa, bảo dưỡng hàng năm | H6: 30
A7: 3 | B7: Máy chiếu | C7: Chiếc | D7: 1 | E7: 3000000 | F7: =E7*D7 -> 3000000 | G7: Tuổi thọ 2000/3000 giờ | H7: 4
A8: 4 | B8: Máy in | C8: Bộ | D8: 3 | E8: 250000 | F8: =E8*D8 -> 750000 | G8: Bảo dưỡng 3 lượt/bộ/khóa học
A9: 5 | B9: Thiết bị mạng | C9: Bộ | D9: 2 | E9: 250000 | F9: =E9*D9 -> 500000 | G9: Bảo dưỡng 3 lượt/cái/khóa học
A10: 6 | B10: Máy nạp ắc quy có trợ đề Dynamic 620 | C10: Chiếc | D10: 1 | E10: 2000000 | F10: =E10*D10 -> 2000000 | G10: Thay cuộn dây biến áp
A11: 7 | B11: Thiết bị thay dầu phanh và xả khí hệ thống phanh | C11: Bộ | D11: 1 | E11: =250000*3 -> 750000 | F11: =E11*D11 -> 750000 | G11: Bảo dưỡng 01 lần/01 năm
A12: 8 | B12: Máy tính cá nhân (PC) | C12: Thẻ | D12: 1 | E12: 300000 | F12: =E12*D12 -> 300000 | G12: Mua phần mềm diệt vi rút cho 3 năm
A13: 9 | B13: Dàn nâng ô tô | C13: Lần | D13: 1 | E13: 1000000 | F13: =E13*D13 -> 1000000 | G13: Thay dầu định kỳ 1,5 năm/lần
A14: 10 | B14: Xe mô hình với hệ thống chiếu sáng thông thường | C14: Bộ | D14: 1 | E14: 1500000 | F14: =E14*D14 -> 1500000 | G14: Thay thế đui, chóa (nếu vỡ hỏng)
A15: 11 | B15: Xe mô hình với hệ thống chiếu sáng Xenon cũng như hệ thống chiếu sáng LED | C15: Bộ | D15: 1 | E15: 2500000 | F15: =E15*D15 -> 2500000 | G15: Thay thế đui, chóa, (nếu vỡ hỏng)
A16: 12 | B16: Thiết bị tháo lắp lốp xe | C16: Bộ | D16: 1 | E16: 1000000 | F16: =E16*D16 -> 1000000 | G16: thay ống dẫn khí (3 năm sử dụng). Bảo dưỡng mô tơ
A17: 13 | B17: Máy nạp ga điều hòa | C17: Cái | D17: 2 | E17: 500000 | F17: =E17*D17 -> 1000000 | G17: Thay lọc
A18: Tổng | F18: =SUM(F5:F17) -> 16900000
A19: =" Bằng chữ: "&[1]!VND(F18)&" đồng./." -> Bằng chữ: Mười sáu triệu, chín trăm ngàn đồng./.

Sheet PL7.Quản lý
A1: Phụ lục 7:
A2: DỰ TOÁN CHI PHÍ QUẢN LÝ LỚP HỌC
A4: TT | B4: Nội dung | C4: ĐVT | D4: Số lượng | E4: Đơn giá | F4: Thành tiền
A5: I | B5: Phụ cấp trách nhiệm
A6: 1 | B6: Chi cho Ban chỉ đạo | C6: Tháng | D6: 30 | E6: 1500000 | F6: =D6*E6 -> 45000000
A7: 2 | B7: Cán bộ quản lý lớp học, điều phối viên | C7: Tháng | D7: 30 | E7: 500000 | F7: =D7*E7 -> 15000000
A8: 3 | B8: Cán bộ lớp | C8: Tháng | D8: 30 | E8: 200000 | F8: =D8*E8 -> 6000000
A9: 4 | B9: Điện thoại, EMS, Internet… | C9: Tháng | D9: 30 | E9: 130000 | F9: =D9*E9 -> 3900000
A10: II | B10: Hội nghị, hội thảo; công tác tuyên truyền; đi lại
A11: 1 | B11: Hội nghị, hội thảo khoảng 40 người/cuộc (bao gồm: In bảng maktet, nước uống, báo cáo, tài liệu,....) | C11: Cuộc | D11: 2 | E11: 7000000 | F11: =E11*D11 -> 14000000
A12: 2 | B12: Công tác tuyên truyền
B13: Quảng cáo trên báo | C13: Số | D13: 1 | E13: 1000000 | F13: =E13*D13 -> 1000000
B14: Quảng cáo trên đài truyền thanh các xã, huyện… | C14: Ngày | D14: 1 | E14: 800000 | F14: =E14*D14 -> 800000
B15: Tờ rơi | C15: Tờ | D15: 500 | E15: 1000 | F15: =E15*D15 -> 500000
B16: Pa nô kích thước 2,5 x 4m | C16: Tấm | D16: 1 | E16: 700000 | F16: =E16*D16 -> 700000
B17: Áp phích kích thước 1,5 x1 m | C17: Tấm | D17: 1 | E17: 300000 | F17: =E17*D17 -> 300000
B18: Băng zôn kích thước 1 x5 m | C18: Tấm | D18: 1 | E18: 500000 | F18: =E18*D18 -> 500000
A19: 3 | B19: Chi phí đi lại dự các Hội nghị triển khai, sơ kết, tổng kết khóa học: Số lượng người theo yêu cầu của cơ quan tổ chức hội nghị | C19: Lần | D19: 2 | E19: 6000000 | F19: =E19*D19 -> 12000000
A20: III | B20: Văn phòng phẩm cho công tác quản lý
A21: 1 | B21: Giấy A4 | C21: Gam | D21: 3 | E21: 80000 | F21: =D21*E21 -> 240000
A22: 2 | B22: Mực máy in, photo | C22: Hộp | D22: 1 | E22: 200000 | F22: =D22*E22 -> 200000
A23: TỔNG CỘNG | F23: =SUM(F6:F22) -> 100140000
B25: Bằng chữ: Hai trăm tám mươi lăm triệu ba trăm ngàn đồng./.

Sheet PL8.Học bổng
A1: Phụ lục 8:
A2: DỰ TOÁN CHI HỌC BỔNG CHO SINH VIÊN
A4: TT | B4: Nội dung | C4: Mức chi/1 tháng | D4: Số lượng | E4: Thành tiền | F4: Ghi chú
A5: 1 | B5: Chi học bổng loại xuất xắc | C5: 550000 | D5: 2 | E5: =C5*D5*10 -> 11000000
A6: 2 | B6: Chi học bổng loại giỏi | C6: 475000 | D6: 3 | E6: =C6*D6*10 -> 14250000
A7: 3 | B7: Chi học bổng loại khá | C7: 300000 | D7: 5 | E7: =C7*D7*10 -> 15000000
B8: Cộng | E8: =SUM(E5:E7) -> 40250000
B10: Bằng chữ: Bốn mươi triệu hai trăm năm mươi ngàn đồng./.
