Workbook

Sheet NỘI DUNG
A1: TRƯỜNG CAO ĐẢNG LÝ TỰ TRỌNG | C1: CỘNG HÒA XÃ HỘI CHỦ NGHĨA VIỆT NAM
A2: THÀNH PHỐ HỒ CHÍ MINH | C2: Độc lập- Tự do- Hạnh phúc
A3: PHÒNG KẾ HOẠCH - TÀI CHÍNH
A5: BÁO CÁO CHI PHÍ TỐI THIỂU CHO MỘT NGƯỜI HỌC
A6: (CHƯƠNG TRÌNH LIÊN KẾT ĐÀO TẠO VỚI VINFAST)
A7: 1.THU HỌC PHÍ VÀ CÁC KHOẢN THU KHÁC (01 SINH VIÊN):
A8: STT | B8: MỤC | C8: SỐ TIỀN/ TÍN CHỈ | D8: TỔNG SỐ TÍN CHỈ | E8: THÀNH TIỀN/ SINH VIÊN
A9: 1 | B9: HỌC PHÍ | C9: 283000 | D9: 96 | E9: =C9*D9 -> 27168000
A10: 2 | B10: PHỤ THU (2,5 năm; không gồm BHYT, BHTN) | C10: =100000+(50000*2+40000*3)*2.5 -> 650000 | E10: 650000
B11: TỔNG: | E11: =SUM(E9:E10) -> 27818000
A13: * | B13: Vậy với 01 lớp học 30 sinh viên, tổng thu học phí và phụ thu là:
B14: 27.818.000 đồng/ Sinh viên x 30 Sinh viên = 834.540.000 đồng
A15: 2.CHI PHÍ THỰC HIỆN CHƯƠNG TRÌNH ĐÀO TẠO LIÊN KẾT VỚI VINFAST
A16: (Căn cứ: - Chương trình khung của ngành Công nghệ Kỹ thuật Ô tô và Cơ điện tử. - Áp dụng cho hệ cao đẳng 2,5 năm; - Áp dụng cho lớp học 30 người)
A18: STT | B18: MỤC | C18: SỐ TIỀN/ 30 SINH VIÊN | D18: SỐ TIỀN / SINH VIÊN | E18: GHI CHÚ
C19: (1) | D19: (2)=(1)/30
A20: 1 | B20: Tài liệu học tập, giảng dạy | C20: ='PL1 Tai lieu'!F26 -> 44749896 | D20: =ROUND(C20/30,0) -> 1491663 | E20: Phụ lục 01
A21: 2 | B21: Lương của giảng viên | C21: ='PL2.Lương GV'!H44 -> 337500000 | D21: =C21/30 -> 11250000 | E21: Phụ lục 02
A22: 3 | B22: Ngoại ngữ (chương trình học bổ sung trước khi tốt nghiệp) | C22: ='PL3. Ngoai ngữ'!F8 -> 75250000 | D22: =C22/30 -> 2508333.3 | E22: Phụ lục 03
A23: 4 | B23: Vật tư | C23: ='PL4.Vật tư'!F259 -> 136081311 | D23: =C23/30 -> 4536043.7 | E23: Phụ lục 04
A24: 5 | B24: Điện, nước | C24: ='PL5.Điện nước'!I63 -> 83626252 | D24: =C24/30 -> 2787541.7 | E24: Phụ lục 05
A25: 6 | B25: Sửa chữa tài sản | C25: ='PL6- Sua chua TS'!F18 -> 16900000 | D25: =C25/30 -> 563333.33 | E25: Phụ lục 06
A26: 7 | B26: Quản lý phí | C26: ='PL7.Quản lý'!F23 -> 100140000 | D26: =C26/30 -> 3338000 | E26: Phụ lục 07
A27: 8 | B27: Học bổng (trả học bổng theo quy định) | C27: ='PL8.Học bổng'!E8 -> 40250000 | D27: =C27/30 -> 1341666.7 | E27: Phụ lục 08
B28: TỔNG | C28: =SUM(C20:C27) -> 834497459 | D28: =SUM(D20:D27) -> 27816582
B30: Thành phố Hồ Chí Minh, ngày tháng năm 2020
A31: NGƯỜI LẬP BẢNG PHÒNG KẾ HOẠCH - TÀI CHÍNH | D31: HIỆU TRƯỞNG

Sheet PL1 Tai lieu
B1: Phụ lục 1:
A2: DỰ TOÁN CHI PHÍ TÀI LIỆU HỌC TẬP, GIẢNG DẠY
A4: TT | B4: Nội dung | C4: ĐVT | D4: Số lượng | E4: Đơn giá | F4: Thành tiền | G4: Ghi chú
A5: A | B5: Tài liệu học tập, giảng dạy
A6: I | B6: Tài liệu các môn học chung theo quy định của Việt Nam | F6: =SUM(F7:F12) -> 9052500
A7: 1 | B7: Pháp luật | C7: Quyển | D7: 30 | E7: 42500 | F7: =E7*D7 -> 1275000
A8: 2 | B8: Giáo dục thể chất | C8: Quyển | D8: 30 | E8: 34000 | F8: =E8*D8 -> 1020000
A9: 3 | B9: Giáo dục quốc phòng và an ninh | C9: Quyển | D9: 30 | E9: 42500 | F9: =E9*D9 -> 1275000
A10: 4 | B10: Tin học | C10: Quyển | D10: 30 | E10: 51000 | F10: =E10*D10 -> 1530000
A11: 5 | B11: Ngoại ngữ | C11: Quyển | D11: 30 | E11: 68000 | F11: =E11*D11 -> 2040000
A12: 6 | B12: Giáo dục chính trị | C12: Quyển | D12: 30 | E12: 63750 | F12: =E12*D12 -> 1912500
A13: II | B13: Tài liệu hướng dẫn: | F13: =SUM(F14:F20) -> 24427716
A14: 7 | B14: Tài liệu hướng dẫn về phương pháp - lý luận học tập/giảng dạy môn Kinh tế học | C14: Quyển | D14: 30 | E14: 63750 | F14: =D14*E14 -> 1912500
A15: 8 | B15: Tài liệu hướng dẫn về phương pháp - lý luận học tập/giảng dạy môn Xã hội học | C15: Quyển | D15: 30 | E15: 102000 | F15: =D15*E15 -> 3060000
A16: 9 | B16: Tài liệu hướng dẫn về phương pháp - lý luận học tập/giảng dạy các học phần lý thuyết chuyên ngành | C16: Quyển | D16: 30 | E16: 297500 | F16: =D16*E16 -> 8925000
A17: 10 | B17: Tài liệu hướng dẫn về phương pháp - lý luận học tập/giảng dạy các học phần thực hành chuyên môn | C17: Quyển | D17: 30 | E17: 348665 | F17: =D17*E17 -> 10459950
A18: 11 | B18: Công cụ hỗ trợ quản lý học tập/giảng dạy bắt buộc: Sổ báo cáo | C18: Quyển | D18: 1 | E18: 29766 | F18: =D18*E18 -> 29766
A19: 12 | B19: Công cụ hỗ trợ quản lý học tập/giảng dạy bắt buộc: Sổ đầu bài | C19: Quyển | D19: 1 | E19: 25500 | F19: =D19*E19 -> 25500
A20: 13 | B20: Tài liệu đánh giá bao gồm mẫu đề thi, đáp án, hướng dẫn đánh giá và chấm điểm | C20: Bộ | D20: 1 | E20: 15000 | F20: =D20*E20 -> 15000
A21: III | B21: Tài liệu khác | F21: =SUM(F22:F25) -> 11269680
A22: 14 | B22: Kinh tế học - Xã hội học tổng quát | C22: Quyển | D22: 30 | E22: 136000 | F22: =E22*D22 -> 4080000
A23: 15 | B23: Kinh tế học - Xã hội học tổng quát - Đáp án | C23: Quyển | D23: 30 | E23: 136000 | F23: =E23*D23 -> 4080000
A24: 20 | B24: Sổ giáo án (1 quyển 60 trang/1 môn x 30 học phần) | C24: Quyển | D24: 30 | E24: 49756 | F24: =E24*D24 -> 1492680
A25: 21 | B25: Sổ tay giáo viên (1 quyển 25 trang/1 môn x 30 học phần) | C25: Quyển | D25: 30 | E25: 53900 | F25: =E25*D25 -> 1617000
A26: TỔNG CỘNG | F26: =F21+F13+F6 -> 44749896
B27: =" Bằng chữ: "&[1]!VND(F26)&" đồng./." -> Bằng chữ: Bốn mươi bốn triệu, bảy trăm bốn mươi chín ngàn, tám trăm chín mươi sáu đồng./.

Sheet PL2.Lương GV
A1: TRƯỜNG CAO ĐẢNG LÝ TỰ TRỌNG | E1: CỘNG HÒA XÃ HỘI CHỦ NGHĨA VIỆT NAM
A2: THÀNH PHỐ HỒ CHÍ MINH | E2: Độc lập- Tự do- Hạnh phúc
A3: PHÒNG KẾ HOẠCH - TÀI CHÍNH
B5: Phụ lục 2:
A6: THANH TOÁN LƯƠNG CỦA GIẢNG VIÊN THAM GIA GIÀNG DẠY
A7: STT | B7: HỌC PHẦN | C7: SỐ TÍN CHỈ | D7: SỐ TIẾT LÝ THUYẾT | E7: SỐ TIẾT THỰC HÀNH | F7: TỔNG CỘNG | G7: THANH TOÁN TIỀN LƯƠNG/ TIẾT | H7: THÀNH TIỀN
C8: (1) | D8: (2) | E8: (3) | F8: (4) | G8: (5) | H8: (6)=(4)*(5)
A9: 1 | B9: Thực hành Hàn cơ bản | C9: 1 | D9: 0 | E9: 30 | F9: =D9+E9 -> 30 | G9: 150000 | H9: =F9*G9 -> 4500000
A10: 2 | B10: Thực hành Nguội cơ bản | C10: 1 | D10: 0 | E10: 30 | F10: =D10+E10 -> 30 | G10: 150000 | H10: =F10*G10 -> 4500000
A11: 3 | B11: Đồ án học phần 1 | C11: 1 | D11: 0 | E11: 45 | F11: =D11+E11 -> 45 | G11: 150000 | H11: =F11*G11 -> 6750000
A12: 4 | B12: Đồ án học phần 2 | C12: 1 | D12: 0 | E12: 45 | F12: =D12+E12 -> 45 | G12: 150000 | H12: =F12*G12 -> 6750000
A13: 5 | B13: Dung sai - Kỹ thuật đo | C13: 2 | D13: 30 | E13: 0 | F13: =D13+E13 -> 30 | G13: 150000 | H13: =F13*G13 -> 4500000
A14: 6 | B14: Kỹ thuật điện - điện tử | C14: 2 | D14: 30 | E14: 0 | F14: =D14+E14 -> 30 | G14: 150000 | H14: =F14*G14 -> 4500000
A15: 7 | B15: Thực hành Kỹ thuật lái xe | C15: 2 | D15: 0 | E15: 60 | F15: =D15+E15 -> 60 | G15: 150000 | H15: =F15*G15 -> 9000000
A16: 8 | B16: Cơ lý thuyết | C16: 2 | D16: 30 | E16: 0 | F16: =D16+E16 -> 30 | G16: 150000 | H16: =F16*G16 -> 4500000
A17: 9 | B17: Giáo dục thể chất | C17: 2 | D17: 0 | E17: 60 | F17: =D17+E17 -> 60 | G17: 150000 | H17: =F17*G17 -> 9000000
A18: 10 | B18: Pháp luật | C18: 2 | D18: 30 | E18: 0 | F18: =D18+E18 -> 30 | G18: 150000 | H18: =F18*G18 -> 4500000
A19: 11 | B19: Thực hành Đồng - Sơn Ô tô | C19: 2 | D19: 0 | E19: 60 | F19: =D19+E19 -> 60 | G19: 150000 | H19: =F19*G19 -> 9000000
A20: 12 | B20: Anh văn chuyên ngành CNKT ôtô | C20: 2 | D20: 30 | E20: 0 | F20: =D20+E20 -> 30 | G20: 150000 | H20: =F20*G20 -> 4500000
... A43: 35 | B43: Thực tập tốt nghiệp | C43: 6 | D43: 0 | E43: 270 | F43: =D43+E43 -> 270 | G43: 150000 | H43: =F43*G43 -> 40500000
B44: TỔNG | C44: =SUM(C9:C43) -> 96 | D44: =SUM(D9:D43) -> 840 | E44: =SUM(E9:E43) -> 1410 | F44: =SUM(F9:F43) -> 2250 | H44: =SUM(H9:H43) -> 337500000
B45: =" Bằng chữ: "&[1]!VND(H44)&" đồng./." -> Bằng chữ: Ba trăm ba mươi bảy triệu, năm trăm ngàn đồng./.

Sheet PL3. Ngoai ngữ
A1: Phụ lục 3:
A2: DỰ TOÁN KINH PHÍ TỔ CHỨC ĐÀO TẠO NGOẠI NGỮ CHUYÊN NGÀNH VÀ THI KIỂM TRA ĐÁNH GIÁ NGOẠI NGỮ ĐỂ ĐẠT TRÌNH ĐỘ B1 KHUNG NĂNG LỰC NGOẠI NGỮ CHÂU ÂU
A3: - Ngoại ngữ: Tiếng Anh; - Thời gian học: 420 giờ - Giáo viên nước ngoài: 01 - Giáo viên Việt Nam: - Trợ giảng:
A4: STT | B4: NỘI DUNG | C4: ĐƠN VỊ | D4: SỐ LƯỢNG | E4: ĐƠN GIÁ | F4: THÀNH TIỀN
A5: 1 | B5: Lương giáo viên nước ngoài | C5: Giờ | D5: 60 | E5: 500000 | F5: =E5*D5 -> 30000000
A6: 2 | B6: Tài liệu học tập cho sinh viên | C6: Bộ | D6: 10 | E6: 525000 | F6: =E6*D6 -> 5250000
A7: 3 | B7: Tổ chức thi lấy chứng chỉ B1 | C7: Người | D7: 10 | E7: 4000000 | F7: =E7*D7 -> 40000000
B8: Tổng cộng | F8: =SUM(F5:F7) -> 75250000
B10: =" Bằng chữ: "&[1]!VND(F8)&" đồng./." -> Bằng chữ: Bảy mươi lăm triệu, hai trăm năm mươi ngàn đồng./.

Sheet PL4.Vật tư
A1: Phụ lục 4
A2: DỰ TOÁN CHI CHÍ VẬT TƯ HỌC TẬP VÀ THI TỐT NGHIỆP NGHÀNH CÔNG NGHỆ Ô TÔ VÀ CƠ ĐIỆN TỬ
A4: Số TT | B4: Nguyên vật liệu | C4: Đơn vị | D4: Số lượng (cho 30 SV) | E4: Đơn giá (đồng) | F4: Thành tiền (đồng) | G4: Ghi chú | I4: Số TT | J4: Nguyên vật liệu | K4: Đơn vị | L4: Số lượng | M4: Ghi chú
B5: NHÓM VẬT TƯ VĂN PHÒNG PHẨM | L5: (cho 16 SV)
A6: 1 | B6: Giấy A4 Màu dùng để làm thẻ màu in | C6: Ream | D6: 2 | E6: 165000 | F6: =D6*E6 -> 330000 | I6: 1 | J6: Giấy A4 Màu dùng để làm thẻ màu in | K6: Ream | L6: 20 | N6: =D6-L6 -> -18
A7: 2 | B7: Giấy A4 in tài liệu phát tay | C7: Ream | D7: 1 | E7: 99000 | F7: =D7*E7 -> 99000 | I7: 2 | J7: Giấy A4 in tài liệu phát tay | K7: Ream | L7: 60 | N7: =D7-L7 -> -59
A8: 3 | B8: Mực in | C8: Hộp | D8: 1 | E8: 816750 | F8: =D8*E8 -> 816750 | I8: 3 | J8: Mực in | K8: Hộp | L8: 30 | N8: =D8-L8 -> -29
A9: 4 | B9: Giấy A0 | C9: Tờ | D9: 66 | E9: 27500 | F9: =D9*E9 -> 1815000 | I9: 4 | J9: Giấy A0 | K9: Tờ | L9: 500 | N9: =D9-L9 -> -434
A10: 5 | B10: Nam châm viên dính bảng | C10: Viên | D10: 10 | E10: 11000 | F10: =D10*E10 -> 110000 | I10: 5 | J10: Nam châm viên dính bảng | K10: Viên | L10: 100 | N10: =D10-L10 -> -90
A11: 6 | B11: Bút dạ | C11: Chiếc | D11: 31 | E11: 16500 | F11: =D11*E11 -> 511500 | I11: 6 | J11: Bút dạ | K11: Chiếc | L11: 220 | N11: =D11-L11 -> -189
A12: 7 | B12: Phấn viết bảng | C12: Hộp | D12: 7 | E12: 16500 | F12: =D12*E12 -> 115500 | I12: 7 | J12: Phấn viết bảng | K12: Hộp | L12: 21 | N12: =D12-L12 -> -14
A13: 8 | B13: Sổ viết | C13: Quyển | D13: 31 | E13: 22000 | F13: =D13*E13 -> 682000 | I13: 8 | J13: Sổ viết | K13: Quyển | L13: 512 | N13: =D13-L13 -> -481
A14: 9 | B14: Sách chuyên ngành | C14: Quyển | D14: 0 | E14: 385000 | F14: =D14*E14 -> 0
A15: 10 | B15: Giấy đề can A4 trắng | C15: Tờ | D15: 62 | E15: 550 | F15: =D15*E15 -> 34100 | I15: 9 | J15: Sách chuyên nghành | K15: Quyển | L15: 448 | N15: =D15-L15 -> -386
A16: 11 | B16: Giấy đề can A3 | C16: Tờ | D16: 62 | E16: 1100 | F16: =D16*E16 -> 68200 | J16: Giấy Couche bóng theo thông số kỹ thuật kích thước A4 dạng Decal định lượng 150 gsm | N16: =D16-L16 -> 62
A17: 12 | B17: Giấy in A1 | C17: Tờ | D17: 31 | E17: 7700 | F17: =D17*E17 -> 238700 | I17: 12 | J17: Giấy in A1 | K17: Tờ | L17: 50 | N17: =D17-L17 -> -19
A18: 13 | B18: Giấy in A3 | C18: Tờ | D18: 31 | E18: 550 | F18: =D18*E18 -> 17050 | I18: 14 | J18: Bút dạ kim (màu xanh, đen, đỏ) | K18: Chiếc | L18: 160 | N18: =D18-L18 -> -129
A19: 14 | B19: Bút dạ kim (màu xanh, đen, đỏ) | C19: Chiếc | D19: 31 | E19: 11000 | F19: =D19*E19 -> 341000 | J19: Bút dạ kim - màu xanh | L19: 40 | N19: =D19-L19 -> -9
B20: Bút dạ kim - màu xanh | D20: 10 | E20: 0 | J20: Bút dạ kim - màu đỏ | L20: 40 | N20: =D20-L20 -> -30
B21: Bút dạ kim - màu đỏ | D21: 10 | E21: 0 | J21: Bút dạ xanh | L21: 40 | N21: =D21-L21 -> -30
B22: Bút dạ xanh | D22: 5 | E22: 0 | J22: Bút viết bảng trắng | L22: 40 | N22: =D22-L22 -> -35
B23: Bút viết bảng trắng | D23: 6 | E23: 0 | I23: 15 | J23: Bút sơn | K23: Chiếc | L23: 120 | N23: =D23-L23 -> -114
A24: 15 | B24: Bút sơn | C24: Chiếc | D24: 2 | E24: 16500 | F24: =D24*E24 -> 33000 | I24: 16 | J24: Bút dạ không xóa | K24: Chiếc | L24: 120 | N24: =D24-L24 -> -118
A25: 16 | B25: Bút dạ không xóa | C25: Chiếc | D25: 31 | E25: 16500 | F25: =D25*E25 -> 511500 | J25: - Màu sắc: Màu xanh | N25: =D25-L25 -> 31
B26: - Màu sắc: Màu xanh | E26: 0 | J26: - Bút 2 đầu, kiểu dáng thon nhỏ | N26: =D26-L26 -> 0
B27: - Bút 2 đầu, kiểu dáng thon nhỏ | E27: 0 | I27: 17 | J27: Bút bi mực xanh | K27: Chiếc | L27: 120 | N27: =D27-L27 -> -120
A28: 17 | B28: Bút bi mực xanh | C28: Chiếc | D28: 31 | E28: 5500 | F28: =D28*E28 -> 170500 | J28: - Đóng gói: 30cây/ca | N28: =D28-L28 -> 31
B29: - Đóng gói: 30cây/ca | E29: 0 | J29: - Màu sắc: Màu xanh | N29: =D29-L29 -> 0
B30: - Màu sắc: Màu xanh | E30: 0 | I30: 18 | J30: Bút bi - mực đỏ | K30: Chiếc | L30: 120 | N30: =D30-L30 -> -120
A31: 18 | B31: Bút bi - mực đỏ | C31: Chiếc | D31: 31 | E31: 5500 | F31: =D31*E31 -> 170500 | J31: - Đóng gói: 30 cây/ca | N31: =D31-L31 -> 31
B32: - Đóng gói: 30 cây/ca | E32: 0 | J32: - Màu sắc: Màu đỏ | N32: =D32-L32 -> 0
B33: - Màu sắc: Màu đỏ | E33: 0 | I33: 19 | J33: Bút nhớ dòng | K33: Chiếc | L33: 120 | N33: =D33-L33 -> -120
A34: 19 | B34: Bút nhớ dòng | C34: Chiếc | D34: 31 | E34: 13200 | F34: =D34*E34 -> 409200 | J34: - Có 3 mầu để lựa chọn: vàng, xanh, đỏ | N34: =D34-L34 -> 31
B35: - Có 3 mầu để lựa chọn: vàng, xanh, đỏ | E35: 0 | J35: - Bút có 2 đầu giúp tăng thêm tính năng sử dụng | N35: =D35-L35 -> 0
B36: - Bút có 2 đầu giúp tăng thêm tính năng sử dụng | E36: 0 | I36: 20 | J36: Bút xoá | K36: Chiếc | L36: 120 | N36: =D36-L36 -> -120
A37: 20 | B37: Bút xoá | C37: Chiếc | D37: 31 | E37: 22000 | F37: =D37*E37 -> 682000 | J37: Bút chì | K37: Chiếc | L37: 120 | N37: =D37-L37 -> -89
B38: Bút chì | C38: Chiếc | D38: 31 | E38: 5500 | F38: =D38*E38 -> 170500 | J38: -Có tẩy | N38: =D38-L38 -> 31
B39: -Có tẩy | E39: 0 | J39: -Các loại: HB, 2B, 3B | N39: =D39-L39 -> 0
B40: -Các loại: HB, 2B, 3B | E40: 0 | I40: 21 | J40: Gọt bút chì | K40: Chiếc | L40: 10 | N40: =D40-L40 -> -10
A41: 21 | B41: Gọt bút chì | C41: Chiếc | D41: 31 | E41: 16500 | F41: =D41*E41 -> 511500 | I41: 22 | J41: Tẩy chì | K41: Chiếc | L41: 30 | N41: =D41-L41 -> 1
A42: 22 | B42: Tẩy chì | C42: Chiếc | D42: 31 | E42: 11000 | F42: =D42*E42 -> 341000 | I42: 23 | J42: Còi tuýt điều hành hoạt động nhóm | K42: Chiếc | L42: 4 | N42: =D42-L42 -> 27
A43: 23 | B43: Còi tuýt điều hành hoạt động nhóm | C43: Chiếc | D43: 6 | E43: 22000 | F43: =D43*E43 -> 132000 | I43: 24 | J43: Túi miết- Kích thước: 240x340 mm | K43: Chiếc | L43: 180 | N43: =D43-L43 -> -174
B44: - Còi trọng tài Fox | E44: 0 | I44: 25 | J44: Khăn mềm lau tay (Khăn lau vuông trắng thường) Chất liệu: Cotton | K44: Chiếc | L44: 180 | N44: =D44-L44 -> -180
A45: 24 | B45: Túi miết | C45: Chiếc | D45: 6 | E45: 11000 | F45: =D45*E45 -> 66000 | I45: 26 | J45: Khăn giấy ướt cho phòng chuyên gia | K45: Hộp | L45: 84 | N45: =D45-L45 -> -78
B46: - Kích thước: 240x340 mm | E46: 0 | I46: 27 | J46: Trình ký 2 mặt xi xanh EKE | K46: Chiếc | L46: 66 | N46: =D46-L46 -> -66
A47: 25 | B47: Khăn mềm lau tay (Khăn lau vuông trắng thường) | C47: Chiếc | D47: 6 | E47: 5500 | F47: =D47*E47 -> 33000 | J47: Trình ký 2 mặt xi xanh EKE khổ A4 | L47: 11 | N47: =D47-L47 -> -5
B48: - Chất liệu: Cotton | E48: 0 | J48: Khung kẹp giấy A4 | L48: 11 | N48: =D48-L48 -> -11
A49: 26 | B49: Khăn giấy ướt cho phòng chuyên gia | C49: Hộp | D49: 6 | E49: 5500 | F49: =D49*E49 -> 33000 | J49: Trình ký sọc A4 | L49: 11 | N49: =D49-L49 -> -5
A50: 27 | B50: Trình ký 2 mặt xi xanh EKE | C50: Chiếc | D50: 6 | E50: 22000 | F50: =D50*E50 -> 132000 | J50: File tài liệu chất liệu nhựa khổ A4 | L50: 11 | N50: =D50-L50 -> -5
B51: Trình ký 2 mặt xi xanh EKE khổ A4 | D51: 1 | E51: 0 | J51: File trình ký chất liệu nhựa khổ A4 | L51: 11 | N51: =D51-L51 -> -10
B52: Khung kẹp giấy A4 | D52: 1 | E52: 0 | J52: Cặp kẹp hồ sơ A4 | L52: 11 | N52: =D52-L52 -> -10
B53: Trình ký sọc A4 | D53: 1 | E53: 0 | I53: 28 | J53: Bộ eke | K53: Bộ | L53: 16 | N53: =D53-L53 -> -15
B54: File tài liệu chất liệu nhựa khổ A4 | D54: 1 | E54: 0 | J54: Loại: 45 độ, 60 độ, 90 độ | N54: =D54-L54 -> 1
B55: File trình ký chất liệu nhựa khổ A4 | D55: 1 | E55: 0 | J55: Vật liệu: Nhựa cao cấp, trong suốt | N55: =D55-L55 -> 1
B56: Cặp kẹp hồ sơ A4 | D56: 1 | E56: 0 | I56: 29 | J56: Hộp chia File (hộp đựng tài liệu) | K56: Chiếc | L56: 40 | N56: =D56-L56 -> -39
A57: 28 | B57: Bộ eke | C57: Bộ | D57: 6 | E57: 55000 | F57: =D57*E57 -> 330000 | J57: Vật liệu: cách nhiệt | N57: =D57-L57 -> 6
B58: Loại: 45 độ, 60 độ, 90 độ | E58: 0 | I58: 30 | J58: File clear A3 | K58: Chiếc | L58: 40 | N58: =D58-L58 -> -40
B59: Vật liệu: Nhựa cao cấp, trong suốt | E59: 0 | J59: Kích cỡ: 7cm | N59: =D59-L59 -> 0
A60: 29 | B60: Hộp chia File (hộp đựng tài liệu) | C60: Chiếc | D60: 6 | E60: 77000 | F60: =D60*E60 -> 462000 | I60: 31 | J60: Giấy ghi nhớ | K60: Tệp | L60: 40 | N60: =D60-L60 -> -34
B61: Vật liệu: cách nhiệt | E61: 0 | J61: - Pronoti 3x5 | N61: =D61-L61 -> 0
A62: 30 | B62: File clear A3 | C62: Chiếc | D62: 6 | E62: 55000 | F62: =D62*E62 -> 330000 | I62: 32 | J62: Sổ tay B6 | K62: Quyển | L62: 40 | N62: =D62-L62 -> -34
B63: Kích cỡ: 7cm | E63: 0 | J63: -Kích thước: B6 | N63: =D63-L63 -> 0
A64: 31 | B64: Giấy ghi nhớ | C64: Tệp | D64: 6 | E64: 11000 | F64: =D64*E64 -> 66000 | J64: -Độ dày: 160 trang | N64: =D64-L64 -> 6
B65: - Pronoti 3x5 | E65: 0 | I65: 33 | J65: File còng bìa nhựa | K65: Chiếc | L65: 40 | N65: =D65-L65 -> -40
A66: 32 | B66: Sổ tay B6 | C66: Quyển | D66: 6 | E66: 22000 | F66: =D66*E66 -> 132000 | I66: 34 | J66: Băng dính lụa Simili 3,6cm xanh Blue | N66: =D66-L66 -> 6
B67: -Kích thước: B6 | E67: 0 | J67: - Kích thước: 3,6cm | N67: =D67-L67 -> 0
B68: -Độ dày: 160 trang | E68: 0 | J68: - Màu xanh ( Blue) | N68: =D68-L68 -> 0
A69: 33 | B69: File còng bìa nhựa | C69: Chiếc | D69: 6 | E69: 33000 | F69: =D69*E69 -> 198000 | I69: 35 | J69: Băng dính trong 2cm | K69: Cuộn | L69: 40 | N69: =D69-L69 -> -34
A70: 34 | B70: Băng dính lụa Simili 3,6cm xanh Blue | C70: Cuộn | D70: 1 | E70: 13200 | F70: =D70*E70 -> 13200 | J70: - Kích thước: 3,6cm | N70: =D70-L70 -> 1
B71: - Kích thước: 3,6cm | E71: 0 | I71: 36 | J71: Túi clear bag các loại | K71: Chiếc | L71: 40 | N71: =D71-L71 -> -40
B72: - Màu xanh (Blue) | E72: 0 | I72: 37 | J72: Băng keo trong nhỏ | K72: Cuộn | L72: 40 | N72: =D72-L72 -> -40
A73: 35 | B73: Băng dính trong 2cm | C73: Cuộn | D73: 2 | E73: 13200 | F73: =D73*E73 -> 26400 | J73: - Băng dính T12.100 màng 43 kích thước 1cm | N73: =D73-L73 -> 2
B74: - Kích thước: 3,6cm | E74: 0 | J74: - Kích thước: 1cm | N74: =D74-L74 -> 0
A75: 36 | B75: Túi clear bag các loại | C75: Chiếc | D75: 2 | E75: 7700 | F75: =D75*E75 -> 15400 | I75: 38 | J75: Compass | K75: Chiếc | L75: 20 | N75: =D75-L75 -> -18
A76: 37 | B76: Băng keo trong nhỏ | C76: Cuộn | D76: 2 | E76: 5500 | F76: =D76*E76 -> 11000 | I76: 39 | J76: Kẹp bấm lỗ (kẹp acco), hộp 50 chiếc | K76: Chiếc | L76: 40 | N76: =D76-L76 -> -38
B77: - Băng dính T12.100 màng 43 kích thước 1cm | E77: 0 | I77: 40 | J77: Giấy gián Tommy (sticker) | K77: Túi | L77: 40 | N77: =D77-L77 -> -40
B78: - Kích thước: 1cm | E78: 0 | J78: - Số lượng: 10 tờ/túi | N78: =D78-L78 -> 0
A79: 38 | B79: Compass | C79: Chiếc | D79: 6 | E79: 44000 | F79: =D79*E79 -> 264000 | I79: 41 | J79: Bảng lót cắt loại A4 | K79: Chiếc | L79: 40 | N79: =D79-L79 -> -34
A80: 39 | B80: Kẹp bấm lỗ (kẹp acco), hộp 50 chiếc | C80: Chiếc | D80: 6 | E80: 33000 | F80: =D80*E80 -> 198000 | I80: 42 | J80: Giấy hộp rút (200tờ/hộp) | L80: 38 | N80: =D80-L80 -> -32
A81: 40 | B81: Giấy gián Tommy (sticker) | C81: Túi | D81: 6 | E81: 11000 | F81: =D81*E81 -> 66000 | J81: - Chất liệu: cao cấp | N81: =D81-L81 -> 6
B82: - Số lượng: 10 tờ/túi | E82: 0 | J82: - Loại: (200 tờ/ hộp) | N82: =D82-L82 -> 0
A83: 41 | B83: Bảng lót cắt loại A4 | C83: Chiếc | D83: 6 | E83: 33000 | F83: =D83*E83 -> 198000 | I83: 43 | J83: Kẹp bướm | K83: Hộp | L83: 40 | N83: =D83-L83 -> -34
A84: 42 | B84: Giấy hộp rút (200tờ/hộp) | D84: 6 | E84: 33000 | F84: =D84*E84 -> 198000 | J84: - Loại: Kẹp giấy | N84: =D84-L84 -> 6
B85: - Chất liệu: cao cấp | E85: 0 | F85: =D85*E85 -> 0 | J85: - Chất liệu: Sắt | N85: =D85-L85 -> 0
B86: - Loại: (200 tờ/ hộp) | E86: 0 | F86: =D86*E86 -> 0 | I86: 44 | J86: Giấy note Deli 5 màu | K86: Tập | L86: 40 | N86: =D86-L86 -> -40
A87: 43 | B87: Kẹp bướm | C87: Hộp | D87: 6 | E87: 55000 | F87: =D87*E87 -> 330000 | J87: Băng dính cách điện | K87: Cuộn | L87: 40 | N87: =D87-L87 -> -34
B88: - Loại: Kẹp giấy | E88: 0 | I88: 45 | J88: Gim tài liệu hộp | K88: Hộp | L88: 40 | N88: =D88-L88 -> -40
B89: - Chất liệu: Sắt | E89: 0 | J89: Ghim cài tài liệu tam giác; 90 chiếc/hộp | N89: =D89-L89 -> 0
A90: 44 | B90: Giấy note Deli 5 màu | C90: Tập | D90: 6 | E90: 16500 | F90: =D90*E90 -> 99000 | I90: 46 | J90: Bìa còng (file tài liệu) KingJim A4 - 9cm | K90: Chiếc | L90: 40 | N90: =D90-L90 -> -34
B91: Băng dính cách điện | C91: Cuộn | D91: 6 | E91: 11000 | F91: =D91*E91 -> 66000 | J91: - Kích thước: A4 - 9cm | N91: =D91-L91 -> 6
A92: 45 | B92: Gim tài liệu hộp | C92: Hộp | D92: 6 | E92: 44000 | F92: =D92*E92 -> 264000 | I92: 47 | J92: Bấm lỗ | K92: Chiếc | L92: 14 | N92: =D92-L92 -> -8
B93: - Ghim cài tài liệu tam giác; 90 chiếc/hộp | E93: 0 | I93: 48 | J93: Băng dính (loại 1 mặt - màu xanh) Kích thước: 36mm | K93: Cuộn | L93: 40 | N93: =D93-L93 -> -40
A94: 46 | B94: Bìa còng (file tài liệu) KingJim A4 - 9cm | C94: Chiếc | D94: 6 | E94: 55000 | F94: =D94*E94 -> 330000 | I94: 49 | J94: Giá treo đồ | K94: Chiếc | L94: 7 | N94: =D94-L94 -> -1
B95: - Kích thước: A4 - 9cm | E95: 0 | I95: 50 | J95: Băng dính màu vàng dán nền 5F (cuộn to) | K95: Cuộn | L95: 40 | N95: =D95-L95 -> -40
A96: 47 | B96: Bấm lỗ | C96: Chiếc | D96: 1 | E96: 110000 | F96: =D96*E96 -> 110000 | I96: 51 | J96: Máy tính cầm tay 12 số | K96: Chiếc | L96: 7 | N96: =D96-L96 -> -6
A97: 48 | B97: Băng dính (loại 1 mặt - màu xanh) | C97: Cuộn | D97: 6 | E97: 13200 | F97: =D97*E97 -> 79200 | J97: - Màn hình 12 số, Bộ nhớ M + | N97: =D97-L97 -> 6
B98: Kích thước: 36mm | E98: 0 | I98: 52 | J98: Hồ dán khô | K98: Tuýp | L98: 40 | N98: =D98-L98 -> -40
A99: 49 | B99: Giá treo đồ | C99: Chiếc | D99: 1 | E99: 495000 | F99: =D99*E99 -> 495000 | I99: 53 | J99: Thước kẻ Thiên Long | K99: Chiếc | L99: 28 | N99: =D99-L99 -> -27
A100: 50 | B100: Băng dính màu vàng dán nền 5F (cuộn to) | C100: Cuộn | D100: 6 | E100: 55000 | F100: =D100*E100 -> 330000 | J100: - Đặc tính: Thước có chiều dài 30cm bằng nhựa trong suốt | N100: =D100-L100 -> 6
A101: 51 | B101: Máy tính cầm tay 12 số | C101: Chiếc | D101: 1 | E101: 495000 | F101: =D101*E101 -> 495000 | I101: 54 | J101: File hộp đựng tài liệu EKE A4 10cm | K101: Chiếc | L101: 40 | N101: =D101-L101 -> -39
...

Sheet PL5.Điện nước
A1: Phụ lục 5
A2: DỰ TOÁN CHI PHÍ TIÊU HAO ĐIỆN, NƯỚC NGHỀ CÔNG NGHỆ Ô TÔ
A4: TT | B4: Tên thiết bị | C4: Đơn vị tính | D4: Số lượng thiết bị sử dụng | E4: Số giờ sử dụng | F4: Công suất TB (W) | G4: Tổng tiêu hao (KW) | H4: Đơn giá (đồng/kwh) | I4: Thành tiền (đồng) | J4: Ghi chú
A5: (1) | B5: (2) | C5: (3) | D5: (4) | E5: (5) | F5: (6) | G5: (7) | H5: (8) | I5: (9) | J5: (10)
A6: A | B6: Định mức tiêu hao điện
A7: I | B7: PHÒNG HỌC LÝ THUYẾT
A8: 1 | B8: Quạt trần điện cơ 91 | C8: Cái | D8: 4 | E8: 1100 | F8: 75 | G8: =D8*E8*F8/1000 -> 330 | H8: 1827 | I8: =ROUND(H8*G8,0) -> 602910
A9: 2 | B9: Máy vi tính | C9: Cái | D9: 1 | E9: 1100 | F9: 500 | G9: =D9*E9*F9/1000 -> 550 | H9: 1827 | I9: =ROUND(H9*G9,0) -> 1004850
A10: 3 | B10: Đèn tuýp | C10: Bộ | D10: 3 | E10: 1100 | F10: 80 | G10: =D10*E10*F10/1000 -> 264 | H10: 1827 | I10: =ROUND(H10*G10,0) -> 482328
A11: 4 | B11: Máy chiếu | C11: Cái | D11: 1 | E11: 1100 | F11: 300 | G11: =D11*E11*F11/1000 -> 330 | H11: 1827 | I11: =ROUND(H11*G11,0) -> 602910
A12: 5 | B12: Điều hòa | C12: Bộ | D12: 1 | E12: 1100 | F12: 5000 | G12: =D12*E12*F12/1000 -> 5500 | H12: 1827 | I12: =ROUND(H12*G12,0) -> 10048500
A13: 6 | B13: Loa | C13: Cái | D13: 4 | E13: 1100 | F13: 150 | G13: =D13*E13*F13/1000 -> 660 | H13: 1827 | I13: =ROUND(H13*G13,0) -> 1205820
A14: II | B14: PHÒNG HỌC MÁY TÍNH | H14: 1827
A15: 1 | B15: Quạt trần | C15: Cái | D15: 2 | E15: 100 | F15: 75 | G15: =D15*E15*F15/1000 -> 15 | H15: 1827 | I15: =H15*G15 -> 27405
A16: 2 | B16: Đèn tuýp | C16: Bộ | D16: 6 | E16: 100 | F16: 80 | G16: =D16*E16*F16/1000 -> 48 | H16: 1827 | I16: =H16*G16 -> 87696
A17: 3 | B17: Máy chiếu | C17: Cái | D17: 1 | E17: 100 | F17: 300 | G17: =D17*E17*F17/1000 -> 30 | H17: 1827 | I17: =H17*G17 -> 54810
A18: 4 | B18: Máy tính | C18: Cái | D18: 5 | E18: 100 | F18: 500 | G18: =D18*E18*F18/1000 -> 250 | H18: 1827 | I18: =H18*G18 -> 456750
A19: 5 | B19: Điều hòa | C19: Bộ | D19: 1 | E19: 100 | F19: 5000 | G19: =D19*E19*F19/1000 -> 500 | H19: 1827 | I19: =H19*G19 -> 913500
A20: III | B20: XƯỞNG THỰC HÀNH NGUỘI | H20: 1827
A21: 1 | B21: Quạt treo tường | C21: Cái | D21: 2 | E21: 1168 | F21: 60 | G21: =D21*E21*F21/1000 -> 140.16 | H21: 1827 | I21: =ROUND(H21*G21,0) -> 256072
A22: 2 | B22: Đèn tuýp | C22: Bộ | D22: 6 | E22: 1168 | F22: 80 | G22: =D22*E22*F22/1000 -> 560.64 | H22: 1827 | I22: =ROUND(H22*G22,0) -> 1024289
A23: 3 | B23: Máy chiếu | C23: Cái | D23: 1 | E23: 1168 | F23: 300 | G23: =D23*E23*F23/1000 -> 350.4 | H23: 1827 | I23: =ROUND(H23*G23,0) -> 640181
A24: 4 | B24: Máy mài 2 đá | C24: Cái | D24: 1 | E24: 400 | F24: 1500 | G24: =D24*E24*F24/1000 -> 600 | H24: 1827 | I24: =ROUND(H24*G24,0) -> 1096200
A25: 5 | B25: Máy Khoan bàn | C25: Cái | D25: 1 | E25: 400 | F25: 2000 | G25: =D25*E25*F25/1000 -> 800 | H25: 1827 | I25: =ROUND(H25*G25,0) -> 1461600
A26: 6 | B26: Máy khoan cầm tay | C26: Cái | D26: 1 | E26: 300 | F26: 1000 | G26: =D26*E26*F26/1000 -> 300 | H26: 1827 | I26: =ROUND(H26*G26,0) -> 548100
A27: 7 | B27: Máy mài cầm tay | C27: Cái | D27: 1 | E27: 400 | F27: 2000 | G27: =D27*E27*F27/1000 -> 800 | H27: 1827 | I27: =ROUND(H27*G27,0) -> 1461600
A28: 8 | B28: Máy hàn điện | C28: Cái | D28: 1 | E28: 300 | F28: 2000 | G28: =D28*E28*F28/1000 -> 600 | H28: 1827 | I28: =ROUND(H28*G28,0) -> 1096200
A29: IV | B29: XƯỞNG ĐIỆN - ĐIỆN TỬ Ô TÔ | H29: 1827
A30: 1 | B30: Dàn nâng Ô tô | C30: Cái | D30: 1 | E30: 400 | F30: 5000 | G30: =D30*E30*F30/1000 -> 2000 | H30: 1827 | I30: =ROUND(H30*G30,0) -> 3654000
A31: 2 | B31: Máy cân chỉnh đèn pha ô tô | C31: Cái | D31: 1 | E31: 400 | F31: 2000 | G31: =D31*E31*F31/1000 -> 800 | H31: 1827 | I31: =ROUND(H31*G31,0) -> 1461600
A32: 3 | B32: Máy nạp ác quy Ô tô | C32: Cái | D32: 1 | E32: 1000 | F32: 3000 | G32: =D32*E32*F32/1000 -> 3000 | H32: 1827 | I32: =ROUND(H32*G32,0) -> 5481000
A33: 4 | B33: Máy tính | C33: Cái | D33: 6 | E33: 1768 | F33: 500 | G33: =D33*E33*F33/1000 -> 5304 | H33: 1827 | I33: =ROUND(H33*G33,0) -> 9690408
A34: 5 | B34: Máy chiếu | C34: Cái | D34: 1 | E34: 1768 | F34: 300 | G34: =D34*E34*F34/1000 -> 530.4 | H34: 1827 | I34: =ROUND(H34*G34,0) -> 969041
A35: 6 | B35: Quạt treo tường | C35: Cái | D35: 2 | E35: 1768 | F35: 60 | G35: =D35*E35*F35/1000 -> 212.16 | H35: 1827 | I35: =ROUND(H35*G35,0) -> 387616
A36: 7 | B36: Đèn tuýp | C36: Bộ | D36: 6 | E36: 1768 | F36: 80 | G36: =D36*E36*F36/1000 -> 848.64 | H36: 1827 | I36: =ROUND(H36*G36,0) -> 1550465
A37: V | B37: XƯỞNG GẦM Ô TÔ | H37: 1827
A38: 1 | B38: Dàn nâng ô tô | C38: Cái | D38: 1 | E38: 500 | F38: 5000 | G38: =D38*E38*F38/1000 -> 2500 | H38: 1827 | I38: =ROUND(H38*G38,0) -> 4567500
A39: 2 | B39: Thiết bịtháo lắp lốp xe | C39: Bộ | D39: 1 | E39: 500 | F39: 3000 | G39: =D39*E39*F39/1000 -> 1500 | H39: 1827 | I39: =ROUND(H39*G39,0) -> 2740500
A40: 3 | B40: Thiết bị cân bằng lốp xe | C40: Bộ | D40: 1 | E40: 500 | F40: 3000 | G40: =D40*E40*F40/1000 -> 1500 | H40: 1827 | I40: =ROUND(H40*G40,0) -> 2740500
A41: 4 | B41: Thiết bị hút Air của hệthống phanh thủy lực | C41: Bộ | D41: 1 | E41: 500 | F41: 3000 | G41: =D41*E41*F41/1000 -> 1500 | H41: 1827 | I41: =ROUND(H41*G41,0) -> 2740500
A42: 5 | B42: Thiết bị nạp điện | C42: Bộ | D42: 1 | E42: 1000 | F42: 1500 | G42: =D42*E42*F42/1000 -> 1500 | H42: 1827 | I42: =ROUND(H42*G42,0) -> 2740500
A43: 6 | B43: Máy tính | C43: Cái | D43: 4 | E43: 1768 | F43: 500 | G43: =D43*E43*F43/1000 -> 3536 | H43: 1827 | I43: =ROUND(H43*G43,0) -> 6460272
A44: 7 | B44: Máy chiếu | C44: Cái | D44: 1 | E44: 1768 | F44: 300 | G44: =D44*E44*F44/1000 -> 530.4 | H44: 1827 | I44: =ROUND(H44*G44,0) -> 969041
A45: 8 | B45: Quạt treo tường | C45: Cái | D45: 2 | E45: 1768 | F45: 60 | G45: =D45*E45*F45/1000 -> 212.16 | H45: 1827 | I45: =ROUND(H45*G45,0) -> 387616
A46: 9 | B46: Đèn tuýp | C46: Bộ | D46: 6 | E46: 1768 | F46: 80 | G46: =D46*E46*F46/1000 -> 848.64 | H46: 1827 | I46: =ROUND(H46*G46,0) -> 1550465
A47: VI | B47: XƯỞNG HỆ THỐNG ĐIỀU KHIỂN Ô TÔ | H47: 1827
A48: 1 | B48: Quạt treo tường | C48: Cái | D48: 6 | E48: 884 | F48: 60 | G48: =D48*E48*F48/1000 -> 318.24 | H48: 1827 | I48: =ROUND(H48*G48,0) -> 581424
A49: 2 | B49: Đèn tuýp | C49: 16 | D49: 6 | E49: 884 | F49: 80 | G49: =D49*E49*F49/1000 -> 424.32 | H49: 1827 | I49: =ROUND(H49*G49,0) -> 775233
A50: 3 | B50: Dàn nâng ô tô | C50: Cái | D50: 1 | E50: 200 | F50: 5000 | G50: =D50*E50*F50/1000 -> 1000 | H50: 1827 | I50: =ROUND(H50*G50,0) -> 1827000
A51: 4 | B51: Thiết bị nạp điện | C51: Bộ | D51: 1 | E51: 1000 | F51: 1500 | G51: =D51*E51*F51/1000 -> 1500 | H51: 1827 | I51: =ROUND(H51*G51,0) -> 2740500
A52: 5 | B52: Máy tính cài phần mềm sửa xe | C52: Bộ | D52: 3 | E52: 700 | F52: 500 | G52: =D52*E52*F52/1000 -> 1050 | H52: 1827 | I52: =ROUND(H52*G52,0) -> 1918350
A53: 6 | B53: Máy chiếu | C53: Cái | D53: 1 | E53: 884 | F53: 300 | G53: =D53*E53*F53/1000 -> 265.2 | H53: 1827 | I53: =ROUND(H53*G53,0) -> 484520
A54: Cộng | I54: =SUM(I8:I53) -> 79489772
A55: B. Định mức tiêu hao nước
A56: TT | B56: Nội dung | C56: Đơn vị tính | D56: Định mức nước tiêu thụ /1SV/1 ngày học | E56: Tổng tiêu thụ 1 SV/ 1 khóa học | F56: Tổng tiêu thụ cho 1 lớp | G56: Quy đổi ra m3 | H56: Đơn giá | I56: Thành tiền | J56: Ghi chú
A57: 1 | B57: Nước làm sạch thiết bị thực hành | C57: Lít | D57: 03 lít | E57: 2300 lít | F57: 36800 lít | G57: 36.8 | H57: 10300 | I57: =H57*G57 -> 379040
A58: 2 | B58: Nước vệ sinh cá nhân | C58: Lít | D58: 15 lít | E58: 11.600 lít | F58: 185600 lít | G58: 185.6 | H58: 10300 | I58: =H58*G58 -> 1911680
A59: 3 | B59: Nước uống | C59: Lít | D59: 02 lít | E59: 1600 lít | F59: 25600 lít | G59: 25.6 | H59: 10300 | I59: =H59*G59 -> 263680
A60: 4 | B60: Nước làm sạch nền xưởng | C60: Lít | D60: 02 lít | E60: 1600 lít | F60: 25600 lít | G60: 25.6 | H60: 10300 | I60: =H60*G60 -> 263680
A61: 5 | B61: Nước làm sạch khu vệ sinh | C61: Lít | D61: 10 lít | E61: 8000 lít | F61: 128000 lít | G61: 128 | H61: 10300 | I61: =H61*G61 -> 1318400
A62: Cộng | I62: =SUM(I57:I61) -> 4136480
A63: Tổng cộng (A+B) | I63: =I62+I54 -> 83626252
A64: Bằng chữ: Tám mươi ba triệu, sáu trăm hai mươi sáu ngàn, hai trăm năm mươi hai đồng./.

Sheet PL6- Sua chua TS
B1: Phụ lục 7
A2: DỰ TOÁN CHI PHÍ SỬA CHỮA NHỎ TÀI SẢN, TRANG THIẾT BỊ ĐÀO TẠO NGHỀ CÔNG NGHỆ Ô TÔ
A4: TT | B4: Hạng mục sửa chữa, thay thế | C4: Đơn vị tính | D4: Số lượt sửa chữa, thay thế | E4: Đơn giá (đồng) | F4: Thành tiền (đồng) | G4: Ghi chú
A5: 1 | B5: Đèn tuýp | C5: Chiếc | D5: 20 | E5: 90000 | F5: =E5*D5 -> 1800000 | G5: Thay bóng, sửa chữa khi có hư hỏng | H5: 182
A6: 2 | B6: Quạt trần | C6: Cái | D6: 4 | E6: 200000 | F6: =E6*D6 -> 800000 | G6: Sửa chữa, bảo dưỡng hàng năm | H6: 30
A7: 3 | B7: Máy chiếu | C7: Chiếc | D7: 1 | E7: 3000000 | F7: =E7*D7 -> 3000000 | G7: Tuổi thọ 2000/3000 giờ | H7: 4
A8: 4 | B8: Máy in | C8: Bộ | D8: 3 | E8: 250000 | F8: =E8*D8 -> 750000 | G8: Bảo dưỡng 3 lượt/bộ/khóa học
A9: 5 | B9: Thiết bị mạng | C9: Bộ | D9: 2 | E9: 250000 | F9: =E9*D9 -> 500000 | G9: Bảo dưỡng 3 lượt/cái/khóa học
A10: 6 | B10: Máy nạp ắc quy có trợ đề Dynamic 620 | C10: Chiếc | D10: 1 | E10: 2000000 | F10: =E10*D10 -> 2000000 | G10: Thay cuộn dây biến áp
A11: 7 | B11: Thiết bị thay dầu phanh và xả khí hệ thống phanh | C11: Bộ | D11: 1 | E11: =250000*3 -> 750000 | F11: =E11*D11 -> 750000 | G11: Bảo dưỡng 01 lần/01 năm
A12: 8 | B12: Máy tính cá nhân (PC) | C12: Thẻ | D12: 1 | E12: 300000 | F12: =E12*D12 -> 300000 | G12: Mua phần mềm diệt vi rút cho 3 năm
A13: 9 | B13: Dàn nâng ô tô | C13: Lần | D13: 1 | E13: 1000000 | F13: =E13*D13 -> 1000000 | G13: Thay dầu định kỳ 1,5 năm/lần
A14: 10 | B14: Xe mô hình với hệ thống chiếu sáng thông thường | C14: Bộ | D14: 1 | E14: 1500000 | F14: =E14*D14 -> 1500000 | G14: Thay thế đui, chóa (nếu vỡ hỏng)
A15: 11 | B15: Xe mô hình với hệ thống chiếu sáng Xenon cũng như hệ thống chiếu sáng LED | C15: Bộ | D15: 1 | E15: 2500000 | F15: =E15*D15 -> 2500000 | G15: Thay thế đui, chóa, (nếu vỡ hỏng)
A16: 12 | B16: Thiết bị tháo lắp lốp xe | C16: Bộ | D16: 1 | E16: 1000000 | F16: =E16*D16 -> 1000000 | G16: thay ống dẫn khí (3 năm sử dụng). Bảo dưỡng mô tơ
A17: 13 | B17: Máy nạp ga điều hòa | C17: Cái | D17: 2 | E17: 500000 | F17: =E17*D17 -> 1000000 | G17: Thay lọc
A18: Tổng | F18: =SUM(F5:F17) -> 16900000
A19: =" Bằng chữ: "&[1]!VND(F18)&" đồng./." -> Bằng chữ: Mười sáu triệu, chín trăm ngàn đồng./.

Sheet PL7.Quản lý
A1: Phụ lục 7:
A2: DỰ TOÁN CHI PHÍ QUẢN LÝ LỚP HỌC
A4: TT | B4: Nội dung | C4: ĐVT | D4: Số lượng | E4: Đơn giá | F4: Thành tiền
A5: I | B5: Phụ cấp trách nhiệm
A6: 1 | B6: Chi cho Ban chỉ đạo | C6: Tháng | D6: 30 | E6: 1500000 | F6: =D6*E6 -> 45000000
A7: 2 | B7: Cán bộ quản lý lớp học, điều phối viên | C7: Tháng | D7: 30 | E7: 500000 | F7: =D7*E7 -> 15000000
A8: 3 | B8: Cán bộ lớp | C8: Tháng | D8: 30 | E8: 200000 | F8: =D8*E8 -> 6000000
A9: 4 | B9: Điện thoại, EMS, Internet… | C9: Tháng | D9: 30 | E9: 130000 | F9: =D9*E9 -> 3900000
A10: II | B10: Hội nghị, hội thảo; công tác tuyên truyền; đi lại
A11: 1 | B11: Hội nghị, hội thảo khoảng 40 người/cuộc (bao gồm: In bảng maktet, nước uống, báo cáo, tài liệu,....) | C11: Cuộc | D11: 2 | E11: 7000000 | F11: =E11*D11 -> 14000000
A12: 2 | B12: Công tác tuyên truyền
B13: Quảng cáo trên báo | C13: Số | D13: 1 | E13: 1000000 | F13: =E13*D13 -> 1000000
B14: Quảng cáo trên đài truyền thanh các xã, huyện… | C14: Ngày | D14: 1 | E14: 800000 | F14: =E14*D14 -> 800000
B15: Tờ rơi | C15: Tờ | D15: 500 | E15: 1000 | F15: =E15*D15 -> 500000
B16: Pa nô kích thước 2,5 x 4m | C16: Tấm | D16: 1 | E16: 700000 | F16: =E16*D16 -> 700000
B17: Áp phích kích thước 1,5 x1 m | C17: Tấm | D17: 1 | E17: 300000 | F17: =E17*D17 -> 300000
B18: Băng zôn kích thước 1 x5 m | C18: Tấm | D18: 1 | E18: 500000 | F18: =E18*D18 -> 500000
A19: 3 | B19: Chi phí đi lại dự các Hội nghị triển khai, sơ kết, tổng kết khóa học: Số lượng người theo yêu cầu của cơ quan tổ chức hội nghị | C19: Lần | D19: 2 | E19: 6000000 | F19: =E19*D19 -> 12000000
A20: III | B20: Văn phòng phẩm cho công tác quản lý
A21: 1 | B21: Giấy A4 | C21: Gam | D21: 3 | E21: 80000 | F21: =D21*E21 -> 240000
A22: 2 | B22: Mực máy in, photo | C22: Hộp | D22: 1 | E22: 200000 | F22: =D22*E22 -> 200000
A23: TỔNG CỘNG | F23: =SUM(F6:F22) -> 100140000
B25: Bằng chữ: Hai trăm tám mươi lăm triệu ba trăm ngàn đồng./.

Sheet PL8.Học bổng
A1: Phụ lục 8:
A2: DỰ TOÁN CHI HỌC BỔNG CHO SINH VIÊN
A4: TT | B4: Nội dung | C4: Mức chi/1 tháng | D4: Số lượng | E4: Thành tiền | F4: Ghi chú
A5: 1 | B5: Chi học bổng loại xuất xắc | C5: 550000 | D5: 2 | E5: =C5*D5*10 -> 11000000
A6: 2 | B6: Chi học bổng loại giỏi | C6: 475000 | D6: 3 | E6: =C6*D6*10 -> 14250000
A7: 3 | B7: Chi học bổng loại khá | C7: 300000 | D7: 5 | E7: =C7*D7*10 -> 15000000
B8: Cộng | E8: =SUM(E5:E7) -> 40250000
B10: Bằng chữ: Bốn mươi triệu hai trăm năm mươi ngàn đồng./.
